BEGIN:VCALENDAR
VERSION:2.0
PRODID:-//FESEFA - ECPv6.15.20//NONSGML v1.0//EN
CALSCALE:GREGORIAN
METHOD:PUBLISH
X-ORIGINAL-URL:https://fesefa.be
X-WR-CALDESC:Évènements pour FESEFA
REFRESH-INTERVAL;VALUE=DURATION:PT1H
X-Robots-Tag:noindex
X-PUBLISHED-TTL:PT1H
BEGIN:VTIMEZONE
TZID:Europe/Paris
BEGIN:DAYLIGHT
TZOFFSETFROM:+0100
TZOFFSETTO:+0200
TZNAME:CEST
DTSTART:20200329T010000
END:DAYLIGHT
BEGIN:STANDARD
TZOFFSETFROM:+0200
TZOFFSETTO:+0100
TZNAME:CET
DTSTART:20201025T010000
END:STANDARD
BEGIN:DAYLIGHT
TZOFFSETFROM:+0100
TZOFFSETTO:+0200
TZNAME:CEST
DTSTART:20210328T010000
END:DAYLIGHT
BEGIN:STANDARD
TZOFFSETFROM:+0200
TZOFFSETTO:+0100
TZNAME:CET
DTSTART:20211031T010000
END:STANDARD
BEGIN:DAYLIGHT
TZOFFSETFROM:+0100
TZOFFSETTO:+0200
TZNAME:CEST
DTSTART:20220327T010000
END:DAYLIGHT
BEGIN:STANDARD
TZOFFSETFROM:+0200
TZOFFSETTO:+0100
TZNAME:CET
DTSTART:20221030T010000
END:STANDARD
END:VTIMEZONE
BEGIN:VEVENT
DTSTART;TZID=Europe/Paris:20210429T100000
DTEND;TZID=Europe/Paris:20210429T123000
DTSTAMP:20260426T043037
CREATED:20210310T084134Z
LAST-MODIFIED:20230119T123254Z
UID:10000210-1619690400-1619699400@fesefa.be
SUMMARY:Matinée EP - Axe 3
DESCRIPTION:Suite au succès des matinées organisées en 2019 et 2020 et à la demande de plusieurs associations reconnues en axe 3\, la FESEFA organise de nouveau en 2021 des matinées dédiées à l’axe 3. \nCes matinées seront centrées sur l’application des nouvelles dispositions du décret EP modifié\, liée à une reconnaissance en axe 3. \nLes matinées ont notamment pour objectifs : \n– d’interroger des concepts du décret (outil pédagogique\, recherche participative…) ; \n– d’analyser les conséquences de certaines nouvelles dispositions du décret (fusion des sous-axes 3.1 et 3.2\, globalisation de l’évaluation\, transversalité…) ; \n– d’échanger des bonnes pratiques. \nAttention ! Pour l’instant\, les matinées axe 3 sont réservées aux associations reconnues en axe 3. \nElles sont gratuites et accessibles à tout membre de vos équipes ou de vos instances. \nAu plaisir de vous y rencontrer ! \nNous vous proposons  une forme virtuelle avec zoom. \n– Inscription : info@fesefa.be (Nom/Prénom/Fonction/Nom de votre asbl/Tél/Courriel) \n– Par visioconférence : via l’application zoom (les liens vous parviendront ultérieurement) \n– Jeudi 29 avril 10h-12h30
URL:https://fesefa.be/event/matinee-axe-3/
CATEGORIES:Formation
END:VEVENT
END:VCALENDAR